BEGIN:VCALENDAR
VERSION:2.0
PRODID:-//Plone.org//NONSGML plone.app.event//EN
X-WR-TIMEZONE:Europe/Madrid
BEGIN:VEVENT
SUMMARY:Clean Sky Info Day/Workshop
DTSTART;TZID=Europe/Madrid:20120119T140000
DTEND;TZID=Europe/Madrid:20120120T170000
DTSTAMP:20260424T230431Z
UID:2e318b8e-7712-4508-ab47-43b5b754c62b@peter2pre.upc.edu:11003
CREATED:20120116T120900Z
LAST-MODIFIED:20120116T134500Z
URL:https://transicioecologica.upc.edu/es/eventos/clean-sky-info-day-works
 hop
END:VEVENT
BEGIN:VTIMEZONE
TZID:Europe/Madrid
X-LIC-LOCATION:Europe/Madrid
BEGIN:STANDARD
DTSTART:20111030T020000
TZNAME:CET
TZOFFSETFROM:+0200
TZOFFSETTO:+0100
END:STANDARD
END:VTIMEZONE
END:VCALENDAR
