BEGIN:VCALENDAR
VERSION:2.0
PRODID:-//Plone.org//NONSGML plone.app.event//EN
X-WR-TIMEZONE:Europe/Madrid
BEGIN:VEVENT
SUMMARY:Sessió informativa sobre el projecte Solar Campus
DTSTART;TZID=Europe/Madrid:20161221T120000
DTSTAMP:20260420T195114Z
UID:6739628b8acd421eb494687bfad3e3d1@campusenergia.upc.edu
CONTACT:https://solarcampus.splashthat.com/
CREATED:20161219T122735Z
LAST-MODIFIED:20161219T130350Z
LOCATION:Sala de conferencias de la EET
URL:https://transicioecologica.upc.edu/ca/esdeveniments/solar-campus
END:VEVENT
BEGIN:VTIMEZONE
TZID:Europe/Madrid
X-LIC-LOCATION:Europe/Madrid
BEGIN:STANDARD
DTSTART:20161030T020000
TZNAME:CET
TZOFFSETFROM:+0200
TZOFFSETTO:+0100
END:STANDARD
END:VTIMEZONE
END:VCALENDAR
